BEGIN:VCALENDAR
VERSION:2.0
PRODID:-//ChamberMaster//Event Calendar 2.0//EN
METHOD:PUBLISH
X-PUBLISHED-TTL:P3D
REFRESH-INTERVAL:P3D
CALSCALE:GREGORIAN
BEGIN:VEVENT
DTSTART:20171004T233000Z
DTEND:20171005T003000Z
X-MICROSOFT-CDO-ALLDAYEVENT:FALSE
SUMMARY:26th Annual Festival of Faith
DESCRIPTION:This is a great opportunity for all Christians in Hays and the surrounding area to come together in prayer at the 26th Annual Festival of Faith. We will pray for our great nation\, our communities\, our families\, our neighbors\, and Christians everywhere. Let us join with one voice and raise up our prayers at the 2017 Festival of Faith.  The Festival of Faith is brought to you by the Ellis County Ministerial Alliance and the Hays Area Chamber of Commerce.
X-ALT-DESC;FMTTYPE=text/html:This is a great opportunity for all Christians in Hays and the surrounding area to come together in prayer at the 26th Annual Festival of Faith. We will pray for our great nation\, our communities\, our families\, our neighbors\, and Christians everywhere. Let us join with one voice and raise up our prayers at the 2017 Festival of Faith.&nbsp\; The Festival of Faith is brought to you by the Ellis County Ministerial Alliance and the Hays Area Chamber of Commerce.
LOCATION:Beach Schmidt Performing Arts Center (FHSU Campus)
UID:e.1271.6206
SEQUENCE:3
DTSTAMP:20260425T022319Z
URL:https://members.hayschamber.com/events/details/26th-annual-festival-of-faith-6206
END:VEVENT

END:VCALENDAR
