BEGIN:VCALENDAR
VERSION:2.0
PRODID:-//ChamberMaster//Event Calendar 2.0//EN
METHOD:PUBLISH
X-PUBLISHED-TTL:P3D
REFRESH-INTERVAL:P3D
CALSCALE:GREGORIAN
BEGIN:VEVENT
DTSTART:20181003T233000Z
DTEND:20181004T003000Z
X-MICROSOFT-CDO-ALLDAYEVENT:FALSE
SUMMARY:27th Annual Festival of Faith
DESCRIPTION:This is a great opportunity for all Christians in Hays and the surrounding area to come together in prayer at the 27th Annual Festival of Faith. We will pray for our great nation\, our communities\, our families\, our neighbors\, and Christians everywhere. Let us join with one voice and raise up our prayers at the 2018 Festival of Faith.  The Festival of Faith is brought to you by the Ellis County Ministerial Alliance and the Hays Area Chamber of Commerce.
X-ALT-DESC;FMTTYPE=text/html:<span class="cm_editor_fix" style="background-color: transparent\; clear: none\; color: rgb(0\, 0\, 0)\; display: inline\; float: none\; font-family: Arial\,Helvetica\,sans-serif\,&amp\;quot\;MS Sans Serif&amp\;quot\;\; font-size: 12px\; font-style: normal\; font-variant: normal\; font-weight: 400\; letter-spacing: normal\; line-height: normal\; min-width: 0px\; orphans: 2\; padding-top: 0px\; text-align: left\; text-decoration: none\; text-indent: 0px\; text-transform: none\; -webkit-text-stroke-width: 0px\; white-space: normal\; width: auto\; word-spacing: 0px\;">This is a great opportunity for all Christians in Hays and the surrounding area to come together in prayer at the 27th Annual Festival of Faith. We will pray for our great nation\, our communities\, our families\, our neighbors\, and Christians everywhere. Let us join with one voice and raise up our prayers at the 2018 Festival of Faith.&nbsp\; The Festival of Faith is brought to you by the Ellis County Ministerial Alliance and the Hays Area Chamber of Commerce.</span><span style="display: inline !important\; float: none\; background-color: transparent\; color: rgb(0\, 0\, 0)\; font-family: Arial\,Helvetica\,sans-serif\,&quot\;MS Sans Serif&quot\;\; font-size: 12px\; font-style: normal\; font-variant: normal\; font-weight: 400\; letter-spacing: normal\; line-height: normal\; orphans: 2\; text-align: left\; text-decoration: none\; text-indent: 0px\; text-transform: none\; -webkit-text-stroke-width: 0px\; white-space: normal\; word-spacing: 0px\;"> </span>
LOCATION:Beach Schmidt Performing Arts Center FHSU
UID:e.1271.9807
SEQUENCE:3
DTSTAMP:20260423T155655Z
URL:https://members.hayschamber.com/events/details/27th-annual-festival-of-faith-9807
END:VEVENT

END:VCALENDAR
