BEGIN:VCALENDAR
VERSION:2.0
PRODID:-//ChamberMaster//Event Calendar 2.0//EN
METHOD:PUBLISH
X-PUBLISHED-TTL:P3D
REFRESH-INTERVAL:P3D
CALSCALE:GREGORIAN
BEGIN:VEVENT
DTSTART:20190208T120000Z
DTEND:20190208T140000Z
X-MICROSOFT-CDO-ALLDAYEVENT:FALSE
SUMMARY:4th Annual First Responders Breakfast!
DESCRIPTION:Please join Downtown Hays Development Corporation\, Hays Convention and Visitor's Bureau\,\n\nHays Area Chamber of Commerce\, and Grow Hays as we recognize all you do for our community.\n\nWe hope you can enjoy our fourth annual First Responders Breakfast as a special thank you for\n\nyour continued promotion of safety and service. You make Hays a better place to live!
X-ALT-DESC;FMTTYPE=text/html:Please join Downtown Hays Development Corporation\, Hays Convention and Visitor&rsquo\;s Bureau\,<br />\nHays Area Chamber of Commerce\, and Grow Hays as we recognize all you do for our community.<br />\nWe hope you can enjoy our fourth annual First Responders Breakfast as a special thank you for<br />\nyour continued promotion of safety and service. You make Hays a better place to live!
LOCATION:The Paisley Pear 1100 Main
UID:e.1271.9986
SEQUENCE:3
DTSTAMP:20260422T204837Z
URL:https://members.hayschamber.com/events/details/4th-annual-first-responders-breakfast-9986
END:VEVENT

END:VCALENDAR
