BEGIN:VCALENDAR
VERSION:2.0
PRODID:-//ChamberMaster//Event Calendar 2.0//EN
METHOD:PUBLISH
X-PUBLISHED-TTL:P3D
REFRESH-INTERVAL:P3D
CALSCALE:GREGORIAN
BEGIN:VEVENT
DTSTART:20180504T163000Z
DTEND:20180504T183000Z
X-MICROSOFT-CDO-ALLDAYEVENT:FALSE
SUMMARY:9th Annual Golf Tournament - Bricks on the Green Patio Party
DESCRIPTION:Join us for our 9th Annual Golf Tournament presented by Eagle Communications.
X-ALT-DESC;FMTTYPE=text/html:Join us for our 9th&nbsp\;Annual Golf Tournament presented by Eagle Communications.
LOCATION:Smoky Hill Country Club
UID:e.1271.8671
SEQUENCE:3
DTSTAMP:20260424T061237Z
URL:https://members.hayschamber.com/events/details/9th-annual-golf-tournament-bricks-on-the-green-patio-party-8671
END:VEVENT

END:VCALENDAR
