BEGIN:VCALENDAR
VERSION:2.0
PRODID:-//ChamberMaster//Event Calendar 2.0//EN
METHOD:PUBLISH
X-PUBLISHED-TTL:P3D
REFRESH-INTERVAL:P3D
CALSCALE:GREGORIAN
BEGIN:VEVENT
DTSTART:20191110T000000Z
DTEND:20191110T051500Z
X-MICROSOFT-CDO-ALLDAYEVENT:FALSE
SUMMARY:Adult Prom
DESCRIPTION:Join us for the annual Adult Prom. This year there will be dinner\, a DJ's/dance and a cash bar. Tickets are $30 a piece. Please bring an item to donate to the humane society. Must be 21+ to attend.
X-ALT-DESC;FMTTYPE=text/html:Join us for the annual Adult Prom. This year there will be dinner\, a DJ&#39\;s/dance and a cash bar. Tickets are $30 a piece. Please bring an item to donate to the humane society. Must be 21+ to attend.
LOCATION:Rose Garden Banquet Hall (2350 E. 8th Street)
UID:e.1271.10271
SEQUENCE:3
DTSTAMP:20260422T020104Z
URL:https://members.hayschamber.com/events/details/adult-prom-10271
END:VEVENT

END:VCALENDAR
