BEGIN:VCALENDAR
VERSION:2.0
PRODID:-//ChamberMaster//Event Calendar 2.0//EN
METHOD:PUBLISH
X-PUBLISHED-TTL:P3D
REFRESH-INTERVAL:P3D
CALSCALE:GREGORIAN
BEGIN:VEVENT
DTSTART:20181012T230000Z
DTEND:20181013T045500Z
X-MICROSOFT-CDO-ALLDAYEVENT:FALSE
SUMMARY:Adult Prom
DESCRIPTION:Join us for the annual Adult Prom. THis year there will be dinner\, a dance and a cash bar. Tickets are $30 a piece. All proceeds will go to the ARC All Accesible Recreation Complex. Must be 21+ to attend.
X-ALT-DESC;FMTTYPE=text/html:Join us for the annual Adult Prom. THis year there will be dinner\, a dance and a cash bar. Tickets are $30 a piece. All proceeds will go to the ARC All Accesible Recreation Complex. Must be 21+ to attend.
LOCATION:The Rose Garden Banquet Hall (2350 E. 8th St.)
UID:e.1271.9882
SEQUENCE:3
DTSTAMP:20260423T182809Z
URL:https://members.hayschamber.com/events/details/adult-prom-9882
END:VEVENT

END:VCALENDAR
