BEGIN:VCALENDAR
VERSION:2.0
PRODID:-//ChamberMaster//Event Calendar 2.0//EN
METHOD:PUBLISH
X-PUBLISHED-TTL:P3D
REFRESH-INTERVAL:P3D
CALSCALE:GREGORIAN
BEGIN:VEVENT
DTSTART:20200110T000000Z
DTEND:20200110T023000Z
X-MICROSOFT-CDO-ALLDAYEVENT:FALSE
SUMMARY:Advisory Council Retreat/Meeting
DESCRIPTION:The HAYP Advisory Council gets together to discuss and plan for the young professionals program year ahead. Casual dress. We will combine the Advisory Council meeting for January into this retreat.
X-ALT-DESC;FMTTYPE=text/html:The HAYP Advisory Council gets together to discuss and plan for the young professionals program year ahead. Casual dress. We will combine the Advisory Council meeting for January into this retreat.
LOCATION:Welcome Center meeting room 2700 Vine St.
UID:e.1271.10366
SEQUENCE:3
DTSTAMP:20260422T133204Z
URL:https://members.hayschamber.com/events/details/advisory-council-retreat-meeting-10366
END:VEVENT

END:VCALENDAR
