BEGIN:VCALENDAR
VERSION:2.0
PRODID:-//ChamberMaster//Event Calendar 2.0//EN
METHOD:PUBLISH
X-PUBLISHED-TTL:P3D
REFRESH-INTERVAL:P3D
CALSCALE:GREGORIAN
BEGIN:VEVENT
DTSTART:20190924T220000Z
DTEND:20190925T000000Z
X-MICROSOFT-CDO-ALLDAYEVENT:FALSE
SUMMARY:Ag Appreciation
DESCRIPTION:Dinner provided for free for all with a ticket.
X-ALT-DESC;FMTTYPE=text/html:Dinner provided for free for all with a ticket.
LOCATION:Schenk Building - Ellis County Fairgrounds 1344 Fairground Road
UID:e.1271.9900
SEQUENCE:3
DTSTAMP:20260422T031712Z
URL:https://members.hayschamber.com/events/details/ag-appreciation-9900
END:VEVENT

END:VCALENDAR
