BEGIN:VCALENDAR
VERSION:2.0
PRODID:-//ChamberMaster//Event Calendar 2.0//EN
METHOD:PUBLISH
X-PUBLISHED-TTL:P3D
REFRESH-INTERVAL:P3D
CALSCALE:GREGORIAN
BEGIN:VEVENT
DTSTART:20171019T220000Z
DTEND:20171020T000000Z
X-MICROSOFT-CDO-ALLDAYEVENT:FALSE
SUMMARY:Agriculture Appreciation
DESCRIPTION:Help us thank those farmer's and ranchers that  supply our country and communities with food and other products during the annual Farmer's Appreciation event.\n\n\n\nThe Extension Office will hold their annual elections at this event as well.
X-ALT-DESC;FMTTYPE=text/html:Help us thank those farmer&#39\;s and ranchers that&nbsp\;<span style="font-size:12px\;"><span style="font-family: arial\; ">&nbsp\;supply our country and communities with food and other products during the annual Farmer&#39\;s Appreciation event.<br />\n<br />\nThe Extension Office will hold their annual elections at this event as well.&nbsp\;</span></span>
LOCATION:Big Creek Crossing 2918 Vine St.
UID:e.1271.2185
SEQUENCE:3
DTSTAMP:20260424T231733Z
URL:https://members.hayschamber.com/events/details/agriculture-appreciation-10-19-2017-2185
END:VEVENT

END:VCALENDAR
