BEGIN:VCALENDAR
VERSION:2.0
PRODID:-//ChamberMaster//Event Calendar 2.0//EN
METHOD:PUBLISH
X-PUBLISHED-TTL:P3D
REFRESH-INTERVAL:P3D
CALSCALE:GREGORIAN
BEGIN:VEVENT
DTSTART;VALUE=DATE:20191025
DTEND;VALUE=DATE:20191026
TRANSP:TRANSPARENT
X-MICROSOFT-CDO-ALLDAYEVENT:TRUE
SUMMARY:Ambassador Applications Due
DESCRIPTION:Applications to apply for the Chamber Ambassador program are due to the Chamber office (2700 Vine St.) by end of the work day today (11:30 a.m.). You can find the application on our website at discoverhays.com website under the forms tab.
X-ALT-DESC;FMTTYPE=text/html:Applications to apply for the Chamber Ambassador program are due to the Chamber office (2700 Vine St.) by end of the work day today (11:30 a.m.). You can find the application on our website at discoverhays.com website under the forms tab.
LOCATION:
UID:e.1271.10315
SEQUENCE:3
DTSTAMP:20260422T003717Z
URL:https://members.hayschamber.com/events/details/ambassador-applications-due-10315
END:VEVENT

END:VCALENDAR
