BEGIN:VCALENDAR
VERSION:2.0
PRODID:-//ChamberMaster//Event Calendar 2.0//EN
METHOD:PUBLISH
X-PUBLISHED-TTL:P3D
REFRESH-INTERVAL:P3D
CALSCALE:GREGORIAN
BEGIN:VEVENT
DTSTART:20200304T213000Z
DTEND:20200304T230000Z
X-MICROSOFT-CDO-ALLDAYEVENT:FALSE
SUMMARY:Ambassador Committee Captain Meeting
DESCRIPTION:The Ambassador Committee Captains meet as a smaller group representing the larger group to discuss upcoming Chamber events\, various opportunities for the group as a whole and provide feedback to the Chamber on behalf of the group. \n\n\n\nThe March Team Captain meeting has been moved up one week to accommodate Ambassadors Stepping Out event.
X-ALT-DESC;FMTTYPE=text/html:The Ambassador Committee Captains meet as a smaller group representing the larger group to discuss upcoming Chamber events\, various opportunities for the group as a whole and provide feedback to the Chamber on behalf of the group.&nbsp\;<br />\n<br />\nThe March Team Captain meeting has been moved up one week to accommodate Ambassadors Stepping Out event.
LOCATION:Welcome Center 2700 Vine St. Hays\, KS 67601
UID:e.1271.10588
SEQUENCE:3
DTSTAMP:20260422T171230Z
URL:https://members.hayschamber.com/events/details/ambassador-committee-captain-meeting-10588
END:VEVENT

END:VCALENDAR
