BEGIN:VCALENDAR
VERSION:2.0
PRODID:-//ChamberMaster//Event Calendar 2.0//EN
METHOD:PUBLISH
X-PUBLISHED-TTL:P3D
REFRESH-INTERVAL:P3D
CALSCALE:GREGORIAN
BEGIN:VEVENT
DTSTART:20191203T230000Z
DTEND:20191204T010000Z
X-MICROSOFT-CDO-ALLDAYEVENT:FALSE
SUMMARY:Ambassador HAYP Social
DESCRIPTION:Ambassadors and HAYP members gather for a holiday social to mingle\, munch and relax with fellow volunteers.
X-ALT-DESC;FMTTYPE=text/html:Ambassadors and HAYP members gather for a holiday social to mingle\, munch and relax with fellow volunteers.
LOCATION:Welcome Center 2700 Vine St.
UID:e.1271.10324
SEQUENCE:3
DTSTAMP:20260421T232945Z
URL:https://members.hayschamber.com/events/details/ambassador-hayp-social-10324
END:VEVENT

END:VCALENDAR
