BEGIN:VCALENDAR
VERSION:2.0
PRODID:-//ChamberMaster//Event Calendar 2.0//EN
METHOD:PUBLISH
X-PUBLISHED-TTL:P3D
REFRESH-INTERVAL:P3D
CALSCALE:GREGORIAN
BEGIN:VEVENT
DTSTART:20190215T180000Z
DTEND:20190215T190000Z
X-MICROSOFT-CDO-ALLDAYEVENT:FALSE
SUMMARY:Ambassador Lunch
DESCRIPTION:Ambassador Monthly Meeting\n\nJohnny Matlock with Hays High School and 2 Hays High School students
X-ALT-DESC;FMTTYPE=text/html:Ambassador Monthly Meeting<br />\nJohnny Matlock with Hays High School and 2 Hays High School students
LOCATION:Smoky Hill Country Club 3303 Hall Street
UID:e.1271.9931
SEQUENCE:3
DTSTAMP:20260422T204951Z
URL:https://members.hayschamber.com/events/details/ambassador-lunch-02-15-2019-9931
END:VEVENT

END:VCALENDAR
