BEGIN:VCALENDAR
VERSION:2.0
PRODID:-//ChamberMaster//Event Calendar 2.0//EN
METHOD:PUBLISH
X-PUBLISHED-TTL:P3D
REFRESH-INTERVAL:P3D
CALSCALE:GREGORIAN
BEGIN:VEVENT
DTSTART:20190517T170000Z
DTEND:20190517T180000Z
X-MICROSOFT-CDO-ALLDAYEVENT:FALSE
SUMMARY:Ambassador Lunch
DESCRIPTION:Ambassador Monthly Meeting\n\nPresenter: Sandy Jacobs\, Heartland Community Foundation
X-ALT-DESC;FMTTYPE=text/html:Ambassador Monthly Meeting<br />\nPresenter: Sandy Jacobs\, Heartland Community Foundation
LOCATION:Smoky Hill Country Club 3303 Hall Street
UID:e.1271.9934
SEQUENCE:3
DTSTAMP:20260422T074019Z
URL:https://members.hayschamber.com/events/details/ambassador-lunch-05-17-2019-9934
END:VEVENT

END:VCALENDAR
