BEGIN:VCALENDAR
VERSION:2.0
PRODID:-//ChamberMaster//Event Calendar 2.0//EN
METHOD:PUBLISH
X-PUBLISHED-TTL:P3D
REFRESH-INTERVAL:P3D
CALSCALE:GREGORIAN
BEGIN:VEVENT
DTSTART:20190816T170000Z
DTEND:20190816T180000Z
X-MICROSOFT-CDO-ALLDAYEVENT:FALSE
SUMMARY:Ambassador Lunch
DESCRIPTION:Ambassador Monthly Meeting\n\nPresenter: Jeff Brull\, HaysMed Foundation
X-ALT-DESC;FMTTYPE=text/html:Ambassador Monthly Meeting<br />\nPresenter: Jeff Brull\, HaysMed Foundation
LOCATION:Smoky Hill Country Club 3303 Hall Street
UID:e.1271.9937
SEQUENCE:3
DTSTAMP:20260422T032100Z
URL:https://members.hayschamber.com/events/details/ambassador-lunch-08-16-2019-9937
END:VEVENT

END:VCALENDAR
