BEGIN:VCALENDAR
VERSION:2.0
PRODID:-//ChamberMaster//Event Calendar 2.0//EN
METHOD:PUBLISH
X-PUBLISHED-TTL:P3D
REFRESH-INTERVAL:P3D
CALSCALE:GREGORIAN
BEGIN:VEVENT
DTSTART:20190920T170000Z
DTEND:20190920T180000Z
X-MICROSOFT-CDO-ALLDAYEVENT:FALSE
SUMMARY:Ambassador Lunch
DESCRIPTION:Ambassador Monthly Meeting\n\nPresenter: David Snow\, Fort Hays State University
X-ALT-DESC;FMTTYPE=text/html:Ambassador Monthly Meeting<br />\nPresenter: David Snow\, Fort Hays State University
LOCATION:Smoky Hill Country Club 3303 Hall Street
UID:e.1271.9938
SEQUENCE:3
DTSTAMP:20260422T020703Z
URL:https://members.hayschamber.com/events/details/ambassador-lunch-09-20-2019-9938
END:VEVENT

END:VCALENDAR
