BEGIN:VCALENDAR
VERSION:2.0
PRODID:-//ChamberMaster//Event Calendar 2.0//EN
METHOD:PUBLISH
X-PUBLISHED-TTL:P3D
REFRESH-INTERVAL:P3D
CALSCALE:GREGORIAN
BEGIN:VEVENT
DTSTART:20191018T170000Z
DTEND:20191018T180000Z
X-MICROSOFT-CDO-ALLDAYEVENT:FALSE
SUMMARY:Ambassador Lunch
DESCRIPTION:Ambassador Monthly Meeting\n\nPresenter: Pat McGinnis\, Breathe Coffee House
X-ALT-DESC;FMTTYPE=text/html:Ambassador Monthly Meeting<br />\nPresenter: Pat McGinnis\, Breathe Coffee House
LOCATION:Smoky Hill Country Club 3303 Hall Street
UID:e.1271.9939
SEQUENCE:3
DTSTAMP:20260422T015239Z
URL:https://members.hayschamber.com/events/details/ambassador-lunch-10-18-2019-9939
END:VEVENT

END:VCALENDAR
