BEGIN:VCALENDAR
VERSION:2.0
PRODID:-//ChamberMaster//Event Calendar 2.0//EN
METHOD:PUBLISH
X-PUBLISHED-TTL:P3D
REFRESH-INTERVAL:P3D
CALSCALE:GREGORIAN
BEGIN:VEVENT
DTSTART:20171020T170000Z
DTEND:20171020T180000Z
X-MICROSOFT-CDO-ALLDAYEVENT:FALSE
SUMMARY:Ambassador Lunch
DESCRIPTION:
X-ALT-DESC;FMTTYPE=text/html:
LOCATION:Smoky Hill Country Club
UID:e.1271.5777
SEQUENCE:3
DTSTAMP:20260424T205457Z
URL:https://members.hayschamber.com/events/details/ambassador-lunch-10-20-2017-5777
END:VEVENT

END:VCALENDAR
