BEGIN:VCALENDAR
VERSION:2.0
PRODID:-//ChamberMaster//Event Calendar 2.0//EN
METHOD:PUBLISH
X-PUBLISHED-TTL:P3D
REFRESH-INTERVAL:P3D
CALSCALE:GREGORIAN
BEGIN:VEVENT
DTSTART:20191115T180000Z
DTEND:20191115T190000Z
X-MICROSOFT-CDO-ALLDAYEVENT:FALSE
SUMMARY:Ambassador Lunch
DESCRIPTION:Ambassador Monthly Meeting\n\nProgram: Elections if needed\, we will cancel this meeting if no elections are necessary
X-ALT-DESC;FMTTYPE=text/html:Ambassador Monthly Meeting<br />\nProgram: Elections if needed\, we will cancel this meeting if no elections are necessary
LOCATION:Smoky Hill Country Club 3303 Hall Street
UID:e.1271.9940
SEQUENCE:3
DTSTAMP:20260421T232002Z
URL:https://members.hayschamber.com/events/details/ambassador-lunch-11-15-2019-9940
END:VEVENT

END:VCALENDAR
