BEGIN:VCALENDAR
VERSION:2.0
PRODID:-//ChamberMaster//Event Calendar 2.0//EN
METHOD:PUBLISH
X-PUBLISHED-TTL:P3D
REFRESH-INTERVAL:P3D
CALSCALE:GREGORIAN
BEGIN:VEVENT
DTSTART:20180420T170000Z
DTEND:20180420T180000Z
X-MICROSOFT-CDO-ALLDAYEVENT:FALSE
SUMMARY:Ambassador Lunch
DESCRIPTION:Speaker: Dennise Tabor - KS Guardianship
X-ALT-DESC;FMTTYPE=text/html:Speaker: Dennise Tabor - KS Guardianship
LOCATION:Smoky Hill Country Club 3303 Hall St.
UID:e.1271.8734
SEQUENCE:3
DTSTAMP:20260424T042832Z
URL:https://members.hayschamber.com/events/details/ambassador-lunch-8734
END:VEVENT

END:VCALENDAR
