BEGIN:VCALENDAR
VERSION:2.0
PRODID:-//ChamberMaster//Event Calendar 2.0//EN
METHOD:PUBLISH
X-PUBLISHED-TTL:P3D
REFRESH-INTERVAL:P3D
CALSCALE:GREGORIAN
BEGIN:VEVENT
DTSTART:20180518T170000Z
DTEND:20180518T180000Z
X-MICROSOFT-CDO-ALLDAYEVENT:FALSE
SUMMARY:Ambassador Lunch
DESCRIPTION:Speaker: Toby Dougherty - City of Hays
X-ALT-DESC;FMTTYPE=text/html:Speaker: Toby Dougherty - City of Hays
LOCATION:Whiskey Creek 3203 Vine St.
UID:e.1271.8735
SEQUENCE:3
DTSTAMP:20260424T042832Z
URL:https://members.hayschamber.com/events/details/ambassador-lunch-8735
END:VEVENT

END:VCALENDAR
