BEGIN:VCALENDAR
VERSION:2.0
PRODID:-//ChamberMaster//Event Calendar 2.0//EN
METHOD:PUBLISH
X-PUBLISHED-TTL:P3D
REFRESH-INTERVAL:P3D
CALSCALE:GREGORIAN
BEGIN:VEVENT
DTSTART:20180817T170000Z
DTEND:20180817T180000Z
X-MICROSOFT-CDO-ALLDAYEVENT:FALSE
SUMMARY:Ambassador Lunch
DESCRIPTION:Speaker: Karen McCullough - FHSU
X-ALT-DESC;FMTTYPE=text/html:Speaker: Karen McCullough - FHSU
LOCATION:Whiskey Creek 3203 Vine St.
UID:e.1271.8738
SEQUENCE:3
DTSTAMP:20260423T183812Z
URL:https://members.hayschamber.com/events/details/ambassador-lunch-8738
END:VEVENT

END:VCALENDAR
