BEGIN:VCALENDAR
VERSION:2.0
PRODID:-//ChamberMaster//Event Calendar 2.0//EN
METHOD:PUBLISH
X-PUBLISHED-TTL:P3D
REFRESH-INTERVAL:P3D
CALSCALE:GREGORIAN
BEGIN:VEVENT
DTSTART:20181019T170000Z
DTEND:20181019T180000Z
X-MICROSOFT-CDO-ALLDAYEVENT:FALSE
SUMMARY:Ambassador Lunch
DESCRIPTION:Speaker: Chief Don Scheibler
X-ALT-DESC;FMTTYPE=text/html:Speaker: Chief Don Scheibler
LOCATION:Smoky Hill Country Club 3303 Hall St.
UID:e.1271.8740
SEQUENCE:3
DTSTAMP:20260423T171006Z
URL:https://members.hayschamber.com/events/details/ambassador-lunch-8740
END:VEVENT

END:VCALENDAR
