BEGIN:VCALENDAR
VERSION:2.0
PRODID:-//ChamberMaster//Event Calendar 2.0//EN
METHOD:PUBLISH
X-PUBLISHED-TTL:P3D
REFRESH-INTERVAL:P3D
CALSCALE:GREGORIAN
BEGIN:VEVENT
DTSTART:20190118T180000Z
DTEND:20190118T190000Z
X-MICROSOFT-CDO-ALLDAYEVENT:FALSE
SUMMARY:Ambassador Lunch
DESCRIPTION:Ambassador Monthly Meeting\n\nOrientation for new Ambassadors by the Chamber Executive Director and the 2019 Chair
X-ALT-DESC;FMTTYPE=text/html:Ambassador Monthly Meeting<br />\nOrientation for new Ambassadors by the Chamber Executive Director and the 2019 Chair
LOCATION:Smoky Hill Country Club 3303 Hall Street
UID:e.1271.9930
SEQUENCE:3
DTSTAMP:20260423T041751Z
URL:https://members.hayschamber.com/events/details/ambassador-lunch-9930
END:VEVENT

END:VCALENDAR
