BEGIN:VCALENDAR
VERSION:2.0
PRODID:-//ChamberMaster//Event Calendar 2.0//EN
METHOD:PUBLISH
X-PUBLISHED-TTL:P3D
REFRESH-INTERVAL:P3D
CALSCALE:GREGORIAN
BEGIN:VEVENT
DTSTART:20190418T170000Z
DTEND:20190418T180000Z
X-MICROSOFT-CDO-ALLDAYEVENT:FALSE
SUMMARY:Ambassador Monthly Lunch
DESCRIPTION:Ambassador monthly meeting. Moved from the regularly scheduled Friday time to accomodate Good Friday.\n\nPresenter: Doug Williams
X-ALT-DESC;FMTTYPE=text/html:Ambassador monthly meeting. Moved from the regularly scheduled Friday time to accomodate Good Friday.<br />\nPresenter: Doug Williams<br />\n&nbsp\;
LOCATION:Rose Garden Banquet Hall 2350 E. 8th St.
UID:e.1271.9942
SEQUENCE:3
DTSTAMP:20260422T170733Z
URL:https://members.hayschamber.com/events/details/ambassador-monthly-lunch-9942
END:VEVENT

END:VCALENDAR
