BEGIN:VCALENDAR
VERSION:2.0
PRODID:-//ChamberMaster//Event Calendar 2.0//EN
METHOD:PUBLISH
X-PUBLISHED-TTL:P3D
REFRESH-INTERVAL:P3D
CALSCALE:GREGORIAN
BEGIN:VEVENT
DTSTART:20180315T160000Z
DTEND:20180315T180000Z
X-MICROSOFT-CDO-ALLDAYEVENT:FALSE
SUMMARY:Ambassador Stepping Out
DESCRIPTION:
X-ALT-DESC;FMTTYPE=text/html:
LOCATION:Welcome Center 2700 Vine St.
UID:e.1271.8682
SEQUENCE:3
DTSTAMP:20260424T144223Z
URL:https://members.hayschamber.com/events/details/ambassador-stepping-out-8682
END:VEVENT

END:VCALENDAR
