BEGIN:VCALENDAR
VERSION:2.0
PRODID:-//ChamberMaster//Event Calendar 2.0//EN
METHOD:PUBLISH
X-PUBLISHED-TTL:P3D
REFRESH-INTERVAL:P3D
CALSCALE:GREGORIAN
BEGIN:VEVENT
DTSTART:20190305T170000Z
DTEND:20190305T190000Z
X-MICROSOFT-CDO-ALLDAYEVENT:FALSE
SUMMARY:Ambassador Stepping Out Event
DESCRIPTION:Ambassadors will canvas Ellis County handing out the 2019 Chamber Member decals to current member businesses!
X-ALT-DESC;FMTTYPE=text/html:Ambassadors will canvas Ellis County handing out the 2019 Chamber Member decals to current member businesses!
LOCATION:Meet at the Welcome Center Lunch is served for those that participate. Thirsty's will be catering.
UID:e.1271.9941
SEQUENCE:3
DTSTAMP:20260423T105215Z
URL:https://members.hayschamber.com/events/details/ambassador-stepping-out-event-9941
END:VEVENT

END:VCALENDAR
