BEGIN:VCALENDAR
VERSION:2.0
PRODID:-//ChamberMaster//Event Calendar 2.0//EN
METHOD:PUBLISH
X-PUBLISHED-TTL:P3D
REFRESH-INTERVAL:P3D
CALSCALE:GREGORIAN
BEGIN:VEVENT
DTSTART:20180302T180000Z
DTEND:20180302T190000Z
X-MICROSOFT-CDO-ALLDAYEVENT:FALSE
SUMMARY:Ambassador Team Captain Lunch
DESCRIPTION:
X-ALT-DESC;FMTTYPE=text/html:
LOCATION:Paisley Pear 1100 Main St.
UID:e.1271.8717
SEQUENCE:3
DTSTAMP:20260424T105043Z
URL:https://members.hayschamber.com/events/details/ambassador-team-captain-lunch-8717
END:VEVENT

END:VCALENDAR
