BEGIN:VCALENDAR
VERSION:2.0
PRODID:-//ChamberMaster//Event Calendar 2.0//EN
METHOD:PUBLISH
X-PUBLISHED-TTL:P3D
REFRESH-INTERVAL:P3D
CALSCALE:GREGORIAN
BEGIN:VEVENT
DTSTART:20180803T170000Z
DTEND:20180803T180000Z
X-MICROSOFT-CDO-ALLDAYEVENT:FALSE
SUMMARY:Ambassador Team Captain Lunch
DESCRIPTION:This meeting is for the Ambassador Team Captain's.
X-ALT-DESC;FMTTYPE=text/html:This meeting is for the Ambassador Team Captain&#39\;s.
LOCATION:Gella's (back room) 117 E. 11th St.
UID:e.1271.8721
SEQUENCE:3
DTSTAMP:20260423T210800Z
URL:https://members.hayschamber.com/events/details/ambassador-team-captain-lunch-8721
END:VEVENT

END:VCALENDAR
