BEGIN:VCALENDAR
VERSION:2.0
PRODID:-//ChamberMaster//Event Calendar 2.0//EN
METHOD:PUBLISH
X-PUBLISHED-TTL:P3D
REFRESH-INTERVAL:P3D
CALSCALE:GREGORIAN
BEGIN:VEVENT
DTSTART:20190710T213000Z
DTEND:20190710T223000Z
X-MICROSOFT-CDO-ALLDAYEVENT:FALSE
SUMMARY:Ambassador Team Captain Meeting
DESCRIPTION:
X-ALT-DESC;FMTTYPE=text/html:
LOCATION:Welcome Center 2700 Vine
UID:e.1271.10235
SEQUENCE:3
DTSTAMP:20260422T061245Z
URL:https://members.hayschamber.com/events/details/ambassador-team-captain-meeting-10235
END:VEVENT

END:VCALENDAR
