BEGIN:VCALENDAR
VERSION:2.0
PRODID:-//ChamberMaster//Event Calendar 2.0//EN
METHOD:PUBLISH
X-PUBLISHED-TTL:P3D
REFRESH-INTERVAL:P3D
CALSCALE:GREGORIAN
BEGIN:VEVENT
DTSTART:20190129T233000Z
DTEND:20190130T030000Z
X-MICROSOFT-CDO-ALLDAYEVENT:FALSE
SUMMARY:Annual Banquet 2019
DESCRIPTION:2019 Annual Banquet
X-ALT-DESC;FMTTYPE=text/html:2019 Annual Banquet
LOCATION:FHSU Memorial Union (600 Park St.) upstairs
UID:e.1271.9911
SEQUENCE:3
DTSTAMP:20260423T091946Z
URL:https://members.hayschamber.com/events/details/annual-banquet-2019-9911
END:VEVENT

END:VCALENDAR
