BEGIN:VCALENDAR
VERSION:2.0
PRODID:-//ChamberMaster//Event Calendar 2.0//EN
METHOD:PUBLISH
X-PUBLISHED-TTL:P3D
REFRESH-INTERVAL:P3D
CALSCALE:GREGORIAN
BEGIN:VEVENT
DTSTART:20171207T230000Z
DTEND:20171208T010000Z
X-MICROSOFT-CDO-ALLDAYEVENT:FALSE
SUMMARY:BAH - Equity Bank
DESCRIPTION:Business After Hours
X-ALT-DESC;FMTTYPE=text/html:Business After Hours
LOCATION:Equity Bank 2428 Vine St.
UID:e.1271.7609
SEQUENCE:3
DTSTAMP:20260424T145148Z
URL:https://members.hayschamber.com/events/details/bah-equity-bank-7609
END:VEVENT

END:VCALENDAR
