BEGIN:VCALENDAR
VERSION:2.0
PRODID:-//ChamberMaster//Event Calendar 2.0//EN
METHOD:PUBLISH
X-PUBLISHED-TTL:P3D
REFRESH-INTERVAL:P3D
CALSCALE:GREGORIAN
BEGIN:VEVENT
DTSTART;VALUE=DATE:20171109
DTEND;VALUE=DATE:20171110
TRANSP:TRANSPARENT
X-MICROSOFT-CDO-ALLDAYEVENT:TRUE
SUMMARY:Bill Drury Presentation
DESCRIPTION:"A Passion for Service" Presentation by Bill Drury
X-ALT-DESC;FMTTYPE=text/html:&quot\;A Passion for Service&quot\; Presentation by Bill Drury
LOCATION:Welcome Center\, 2700 Vine St.
UID:e.1271.7624
SEQUENCE:3
DTSTAMP:20260425T024702Z
URL:https://members.hayschamber.com/events/details/bill-drury-presentation-7624
END:VEVENT

END:VCALENDAR
