BEGIN:VCALENDAR
VERSION:2.0
PRODID:-//ChamberMaster//Event Calendar 2.0//EN
METHOD:PUBLISH
X-PUBLISHED-TTL:P3D
REFRESH-INTERVAL:P3D
CALSCALE:GREGORIAN
BEGIN:VEVENT
DTSTART:20170429T133000Z
DTEND:20170429T170000Z
X-MICROSOFT-CDO-ALLDAYEVENT:FALSE
SUMMARY:Board Walk
DESCRIPTION:This workshop is focused for Board Members and Administration\n\nto help enhance your organization. It will cover the following topics:\n\n\n\n-Board Types\n\n-Strategic Planning\n\n-Basic Human Resources\n\n-Leadership Types\n\n-Contingency & Succession Planning\n\n-Establishing a Mission\n\n-Recruitment & Retention\n\n-Policies/By-laws\n\n-Transparency\n\n-Understanding financial statements/responsibility
X-ALT-DESC;FMTTYPE=text/html:This workshop is focused for Board Members and Administration<br />\nto help enhance your organization. It will cover the following topics:<br />\n<br />\n-Board Types<br />\n-Strategic Planning<br />\n-Basic Human Resources<br />\n-Leadership Types<br />\n-Contingency &amp\; Succession Planning<br />\n-Establishing a Mission<br />\n-Recruitment &amp\; Retention<br />\n-Policies/By-laws<br />\n-Transparency<br />\n-Understanding financial statements/responsibility
LOCATION:Hadley Center 205 E. 7th St. (1st Floor Conference Room)
UID:e.1271.6160
SEQUENCE:3
DTSTAMP:20260425T162836Z
URL:https://members.hayschamber.com/events/details/board-walk-6160
END:VEVENT

END:VCALENDAR
