BEGIN:VCALENDAR
VERSION:2.0
PRODID:-//ChamberMaster//Event Calendar 2.0//EN
METHOD:PUBLISH
X-PUBLISHED-TTL:P3D
REFRESH-INTERVAL:P3D
CALSCALE:GREGORIAN
BEGIN:VEVENT
DTSTART:20180210T010000Z
DTEND:20180210T030000Z
X-MICROSOFT-CDO-ALLDAYEVENT:FALSE
SUMMARY:Book Club: Reading "Who Moved My Cheese?"
DESCRIPTION:Contact Brittney Squire at bmsquire@fhsu.edu for more information.
X-ALT-DESC;FMTTYPE=text/html:Contact Brittney Squire at&nbsp\;bmsquire@fhsu.edu for more information.<br />\n&nbsp\;
LOCATION:Pasta Jay's 4310 Vine St.
UID:e.1271.8760
SEQUENCE:3
DTSTAMP:20260424T094925Z
URL:https://members.hayschamber.com/events/details/book-club-reading-who-moved-my-cheese-8760
END:VEVENT

END:VCALENDAR
