BEGIN:VCALENDAR
VERSION:2.0
PRODID:-//ChamberMaster//Event Calendar 2.0//EN
METHOD:PUBLISH
X-PUBLISHED-TTL:P3D
REFRESH-INTERVAL:P3D
CALSCALE:GREGORIAN
BEGIN:VEVENT
DTSTART:20190503T163000Z
DTEND:20190503T183000Z
X-MICROSOFT-CDO-ALLDAYEVENT:FALSE
SUMMARY:Bricks on the Green\, Patio Party
DESCRIPTION:Looking for a great way to meet new people or\n\nsimply need an excuse to get out of the office?\n\nTake a break with Downtown Hays and the\n\nChamber at our Patio Party luncheon!\n\n\n\nThe Patio Party is a great way to treat and involve\n\nnon-golfers to a gourmet meal\, swag bags\, door\n\nprizes\, a silent auction and more! Vendors from\n\nDowntown Hays will showcase different\n\nmerchandise from The Bricks and give you a chance\n\nto "window shop" while you dine.\n\n\n\nFeaturing: Body + Soul Day & Med Spa\, Lilly & Marie\, Refine\, Simply Charmed
X-ALT-DESC;FMTTYPE=text/html:Looking for a great way to meet new people or<br />\nsimply need an excuse to get out of the office?<br />\nTake a break with Downtown Hays and the<br />\nChamber at our Patio Party luncheon!<br />\n<br />\nThe Patio Party is a great way to treat and involve<br />\nnon-golfers to a gourmet meal\, swag bags\, door<br />\nprizes\, a silent auction and more! Vendors from<br />\nDowntown Hays will showcase different<br />\nmerchandise from The Bricks and give you a chance<br />\nto &ldquo\;window shop&rdquo\; while you dine.<br />\n<br />\nFeaturing: Body + Soul Day &amp\; Med Spa\, Lilly &amp\; Marie\, Refine\, Simply Charmed
LOCATION:Smoky Hill Country Club 3303 N Hall Street
UID:e.1271.10223
SEQUENCE:3
DTSTAMP:20260422T074434Z
URL:https://members.hayschamber.com/events/details/bricks-on-the-green-patio-party-10223
END:VEVENT

END:VCALENDAR
