BEGIN:VCALENDAR
VERSION:2.0
PRODID:-//ChamberMaster//Event Calendar 2.0//EN
METHOD:PUBLISH
X-PUBLISHED-TTL:P3D
REFRESH-INTERVAL:P3D
CALSCALE:GREGORIAN
BEGIN:VEVENT
DTSTART:20190916T213000Z
DTEND:20190916T230000Z
X-MICROSOFT-CDO-ALLDAYEVENT:FALSE
SUMMARY:Business After Hours
DESCRIPTION:Business After Hours
X-ALT-DESC;FMTTYPE=text/html:Business After Hours&nbsp\; &nbsp\;&nbsp\;
LOCATION:Trio Tap House 1106 E. 27th St.\, Ste. 4 Hays\, KS 67601
UID:e.1271.10301
SEQUENCE:3
DTSTAMP:20260422T020537Z
URL:https://members.hayschamber.com/events/details/business-after-hours-10301
END:VEVENT

END:VCALENDAR
