BEGIN:VCALENDAR
VERSION:2.0
PRODID:-//ChamberMaster//Event Calendar 2.0//EN
METHOD:PUBLISH
X-PUBLISHED-TTL:P3D
REFRESH-INTERVAL:P3D
CALSCALE:GREGORIAN
BEGIN:VEVENT
DTSTART:20181018T220000Z
DTEND:20181019T000000Z
X-MICROSOFT-CDO-ALLDAYEVENT:FALSE
SUMMARY:Business After Hours - DSNWK\, Employment Connections
DESCRIPTION:
X-ALT-DESC;FMTTYPE=text/html:
LOCATION:660 Commerce Parkway
UID:e.1271.9866
SEQUENCE:3
DTSTAMP:20260423T142008Z
URL:https://members.hayschamber.com/events/details/business-after-hours-dsnwk-employment-connections-9866
END:VEVENT

END:VCALENDAR
