BEGIN:VCALENDAR
VERSION:2.0
PRODID:-//ChamberMaster//Event Calendar 2.0//EN
METHOD:PUBLISH
X-PUBLISHED-TTL:P3D
REFRESH-INTERVAL:P3D
CALSCALE:GREGORIAN
BEGIN:VEVENT
DTSTART:20171108T230000Z
DTEND:20171109T010000Z
X-MICROSOFT-CDO-ALLDAYEVENT:FALSE
SUMMARY:Business After Hours-Hays Regional Airport
DESCRIPTION:There will be a special tree lighting ceremony.
X-ALT-DESC;FMTTYPE=text/html:There will be a special tree lighting ceremony.
LOCATION:3950 E. 8th St.
UID:e.1271.8652
SEQUENCE:3
DTSTAMP:20260424T190925Z
URL:https://members.hayschamber.com/events/details/business-after-hours-hays-regional-airport-8652
END:VEVENT

END:VCALENDAR
