BEGIN:VCALENDAR
VERSION:2.0
PRODID:-//ChamberMaster//Event Calendar 2.0//EN
METHOD:PUBLISH
X-PUBLISHED-TTL:P3D
REFRESH-INTERVAL:P3D
CALSCALE:GREGORIAN
BEGIN:VEVENT
DTSTART:20180209T230000Z
DTEND:20180210T010000Z
X-MICROSOFT-CDO-ALLDAYEVENT:FALSE
SUMMARY:Business After Hours - Herrman Physical Therapy & Wellness
DESCRIPTION:
X-ALT-DESC;FMTTYPE=text/html:
LOCATION:2707 Broadway Ave.
UID:e.1271.8747
SEQUENCE:3
DTSTAMP:20260424T094925Z
URL:https://members.hayschamber.com/events/details/business-after-hours-herrman-physical-therapy-wellness-8747
END:VEVENT

END:VCALENDAR
