BEGIN:VCALENDAR
VERSION:2.0
PRODID:-//ChamberMaster//Event Calendar 2.0//EN
METHOD:PUBLISH
X-PUBLISHED-TTL:P3D
REFRESH-INTERVAL:P3D
CALSCALE:GREGORIAN
BEGIN:VEVENT
DTSTART:20181101T220000Z
DTEND:20181102T000000Z
X-MICROSOFT-CDO-ALLDAYEVENT:FALSE
SUMMARY:Business After Hours - PoPt! Gourmet Popcorn
DESCRIPTION:Come and hear (and sample) how Popt! can take care of your Holiday shopping!
X-ALT-DESC;FMTTYPE=text/html:Come and hear (and sample) how Popt! can take care of your Holiday shopping!
LOCATION:1106 E. 27th St. Ste 2
UID:e.1271.9864
SEQUENCE:3
DTSTAMP:20260423T055804Z
URL:https://members.hayschamber.com/events/details/business-after-hours-popt-gourmet-popcorn-9864
END:VEVENT

END:VCALENDAR
