BEGIN:VCALENDAR
VERSION:2.0
PRODID:-//ChamberMaster//Event Calendar 2.0//EN
METHOD:PUBLISH
X-PUBLISHED-TTL:P3D
REFRESH-INTERVAL:P3D
CALSCALE:GREGORIAN
BEGIN:VEVENT
DTSTART:20181011T220000Z
DTEND:20181012T000000Z
X-MICROSOFT-CDO-ALLDAYEVENT:FALSE
SUMMARY:Business After Hours/Ribbon Cutting - Insurance Planning
DESCRIPTION:Come and help us celebrate and support Insurance Planning's 50th year Anniversary!\n\n5:00 - 7:00pm come and go\, Ribbon Cutting at 5:30pm.
X-ALT-DESC;FMTTYPE=text/html:Come and help us celebrate and support Insurance Planning&#39\;s 50th year Anniversary!<br />\n5:00 - 7:00pm come and go\, Ribbon Cutting at 5:30pm.
LOCATION:3006 Broadway Ave.
UID:e.1271.9850
SEQUENCE:3
DTSTAMP:20260423T201142Z
URL:https://members.hayschamber.com/events/details/business-after-hours-ribbon-cutting-insurance-planning-9850
END:VEVENT

END:VCALENDAR
