BEGIN:VCALENDAR
VERSION:2.0
PRODID:-//ChamberMaster//Event Calendar 2.0//EN
METHOD:PUBLISH
X-PUBLISHED-TTL:P3D
REFRESH-INTERVAL:P3D
CALSCALE:GREGORIAN
BEGIN:VEVENT
DTSTART:20171214T230000Z
DTEND:20171215T010000Z
X-MICROSOFT-CDO-ALLDAYEVENT:FALSE
SUMMARY:Business After Hours - Showcase Jewelers
DESCRIPTION:
X-ALT-DESC;FMTTYPE=text/html:
LOCATION:4333 N. Vine St #40
UID:e.1271.8694
SEQUENCE:3
DTSTAMP:20260424T145645Z
URL:https://members.hayschamber.com/events/details/business-after-hours-showcase-jewelers-8694
END:VEVENT

END:VCALENDAR
