BEGIN:VCALENDAR
VERSION:2.0
PRODID:-//ChamberMaster//Event Calendar 2.0//EN
METHOD:PUBLISH
X-PUBLISHED-TTL:P3D
REFRESH-INTERVAL:P3D
CALSCALE:GREGORIAN
BEGIN:VEVENT
DTSTART:20170112T230000Z
DTEND:20170113T010000Z
X-MICROSOFT-CDO-ALLDAYEVENT:FALSE
SUMMARY:Business After Hours-United Way of Ellis County
DESCRIPTION:
X-ALT-DESC;FMTTYPE=text/html:
LOCATION:United Way of Ellis County **Event will be held at Hays Academy of Hair Design** 1214 E. 27th St.
UID:e.1271.5833
SEQUENCE:3
DTSTAMP:20260426T021416Z
URL:https://members.hayschamber.com/events/details/business-after-hours-united-way-of-ellis-county-5833
END:VEVENT

END:VCALENDAR
