BEGIN:VCALENDAR
VERSION:2.0
PRODID:-//ChamberMaster//Event Calendar 2.0//EN
METHOD:PUBLISH
X-PUBLISHED-TTL:P3D
REFRESH-INTERVAL:P3D
CALSCALE:GREGORIAN
BEGIN:VEVENT
DTSTART:20190307T223000Z
DTEND:20190308T000000Z
X-MICROSOFT-CDO-ALLDAYEVENT:FALSE
SUMMARY:Business Showcase: a Quarterly Mini-Expo
DESCRIPTION:Come and be a part of our first ever Business Showcase! We are offering all of our Chamber members an opportunity to "showcase" their business while also learning more about the offerings of the other participating businesses. Enjoy this fun\, high-energy atmosphere for participants and attendees alike.\n\n-Cash Bar\n\n-Appetizers provided by The Venue\n\n-Door Prizes
X-ALT-DESC;FMTTYPE=text/html:Come and be a part of our first ever Business Showcase! We are offering all of our Chamber members an opportunity to &quot\;showcase&quot\; their business while also learning more about the offerings of the other participating businesses. Enjoy this fun\, high-energy atmosphere for participants and attendees alike.<br />\n-Cash Bar<br />\n-Appetizers provided by The Venue<br />\n-Door Prizes
LOCATION:The Venue at Thirsty's 2704 Vine
UID:e.1271.10203
SEQUENCE:3
DTSTAMP:20260422T182645Z
URL:https://members.hayschamber.com/events/details/business-showcase-a-quarterly-mini-expo-10203
END:VEVENT

END:VCALENDAR
