BEGIN:VCALENDAR
VERSION:2.0
PRODID:-//ChamberMaster//Event Calendar 2.0//EN
METHOD:PUBLISH
X-PUBLISHED-TTL:P3D
REFRESH-INTERVAL:P3D
CALSCALE:GREGORIAN
BEGIN:VEVENT
DTSTART:20190613T213000Z
DTEND:20190613T230000Z
X-MICROSOFT-CDO-ALLDAYEVENT:FALSE
SUMMARY:Business Showcase: a Quarterly Mini-Expo
DESCRIPTION:Please join us for our second Business Showcase\, featuring several area businesses.  We'll enjoy hearing from all of them\, a cash bar\, appetizers\, samples\, giveaways\, and more! Come and hear more about\; Big Brothers Big Sisters\, Farmers Insurance - Chelsy Proehl Agency\, Hays Feeder\, Options\, Sunflower Solutions\, Tractor Supply\, Wild West Festival
X-ALT-DESC;FMTTYPE=text/html:Please join us for our <u>second</u> Business Showcase\, featuring several area businesses.&nbsp\; We&#39\;ll enjoy hearing from all of them\, a cash bar\, appetizers\, samples\, giveaways\, and more! Come and hear more about\; Big Brothers Big Sisters\, Farmers Insurance - Chelsy Proehl Agency\, Hays Feeder\, Options\, Sunflower Solutions\, Tractor Supply\, Wild West Festival
LOCATION:The Press
UID:e.1271.10260
SEQUENCE:3
DTSTAMP:20260422T062336Z
URL:https://members.hayschamber.com/events/details/business-showcase-a-quarterly-mini-expo-10260
END:VEVENT

END:VCALENDAR
