BEGIN:VCALENDAR
VERSION:2.0
PRODID:-//ChamberMaster//Event Calendar 2.0//EN
METHOD:PUBLISH
X-PUBLISHED-TTL:P3D
REFRESH-INTERVAL:P3D
CALSCALE:GREGORIAN
BEGIN:VEVENT
DTSTART:20181025T220000Z
DTEND:20181026T000000Z
X-MICROSOFT-CDO-ALLDAYEVENT:FALSE
SUMMARY:CANCELED-Business After Hours - Rose Garden Banquet Hall
DESCRIPTION:
X-ALT-DESC;FMTTYPE=text/html:
LOCATION:CANCELED
UID:e.1271.9856
SEQUENCE:3
DTSTAMP:20260423T190117Z
URL:https://members.hayschamber.com/events/details/canceled-business-after-hours-rose-garden-banquet-hall-9856
END:VEVENT

END:VCALENDAR
