BEGIN:VCALENDAR
VERSION:2.0
PRODID:-//ChamberMaster//Event Calendar 2.0//EN
METHOD:PUBLISH
X-PUBLISHED-TTL:P3D
REFRESH-INTERVAL:P3D
CALSCALE:GREGORIAN
BEGIN:VEVENT
DTSTART:20190712T140000Z
DTEND:20190712T150000Z
X-MICROSOFT-CDO-ALLDAYEVENT:FALSE
SUMMARY:CANCELED: Chamber Chat - Eagle Technology Solutions
DESCRIPTION:We are postponing the Eagle Technology Solutions Chamber Chat at this time - will follow up when we have a new date!
X-ALT-DESC;FMTTYPE=text/html:We are postponing the Eagle Technology Solutions Chamber Chat at this time - will follow up when we have a new date!
LOCATION:1503 E 27th St.
UID:e.1271.10241
SEQUENCE:3
DTSTAMP:20260422T060319Z
URL:https://members.hayschamber.com/events/details/canceled-chamber-chat-eagle-technology-solutions-10241
END:VEVENT

END:VCALENDAR
