BEGIN:VCALENDAR
VERSION:2.0
PRODID:-//ChamberMaster//Event Calendar 2.0//EN
METHOD:PUBLISH
X-PUBLISHED-TTL:P3D
REFRESH-INTERVAL:P3D
CALSCALE:GREGORIAN
BEGIN:VEVENT
DTSTART:20180831T140000Z
DTEND:20180831T150000Z
X-MICROSOFT-CDO-ALLDAYEVENT:FALSE
SUMMARY:CANCELLED Chamber Chat - Insurance Planning
DESCRIPTION:
X-ALT-DESC;FMTTYPE=text/html:
LOCATION:CANCELLED
UID:e.1271.9811
SEQUENCE:3
DTSTAMP:20260423T171857Z
URL:https://members.hayschamber.com/events/details/cancelled-chamber-chat-insurance-planning-9811
END:VEVENT

END:VCALENDAR
