BEGIN:VCALENDAR
VERSION:2.0
PRODID:-//ChamberMaster//Event Calendar 2.0//EN
METHOD:PUBLISH
X-PUBLISHED-TTL:P3D
REFRESH-INTERVAL:P3D
CALSCALE:GREGORIAN
BEGIN:VEVENT
DTSTART:20200117T180000Z
DTEND:20200117T190000Z
X-MICROSOFT-CDO-ALLDAYEVENT:FALSE
SUMMARY:Cancelled due to inclement weather: Ambassador Monthly Lunch
DESCRIPTION:Monthly Ambassador meeting.
X-ALT-DESC;FMTTYPE=text/html:Monthly Ambassador meeting.
LOCATION:Rose Garden Banquet Hall Small Room on the right side
UID:e.1271.10384
SEQUENCE:3
DTSTAMP:20260422T191240Z
URL:https://members.hayschamber.com/events/details/cancelled-due-to-inclement-weather-ambassador-monthly-lunch-10384
END:VEVENT

END:VCALENDAR
